BEGIN:VCALENDAR
VERSION:2.0
PRODID:-//Dance Life Studio - ECPv6.15.17.1//NONSGML v1.0//EN
CALSCALE:GREGORIAN
METHOD:PUBLISH
X-WR-CALNAME:Dance Life Studio
X-ORIGINAL-URL:https://dancelife.studio
X-WR-CALDESC:Events for Dance Life Studio
REFRESH-INTERVAL;VALUE=DURATION:PT1H
X-Robots-Tag:noindex
X-PUBLISHED-TTL:PT1H
BEGIN:VTIMEZONE
TZID:America/Chicago
BEGIN:DAYLIGHT
TZOFFSETFROM:-0600
TZOFFSETTO:-0500
TZNAME:CDT
DTSTART:20230312T080000
END:DAYLIGHT
BEGIN:STANDARD
TZOFFSETFROM:-0500
TZOFFSETTO:-0600
TZNAME:CST
DTSTART:20231105T070000
END:STANDARD
BEGIN:DAYLIGHT
TZOFFSETFROM:-0600
TZOFFSETTO:-0500
TZNAME:CDT
DTSTART:20240310T080000
END:DAYLIGHT
BEGIN:STANDARD
TZOFFSETFROM:-0500
TZOFFSETTO:-0600
TZNAME:CST
DTSTART:20241103T070000
END:STANDARD
BEGIN:DAYLIGHT
TZOFFSETFROM:-0600
TZOFFSETTO:-0500
TZNAME:CDT
DTSTART:20250309T080000
END:DAYLIGHT
BEGIN:STANDARD
TZOFFSETFROM:-0500
TZOFFSETTO:-0600
TZNAME:CST
DTSTART:20251102T070000
END:STANDARD
END:VTIMEZONE
BEGIN:VEVENT
DTSTART;TZID=America/Chicago:20240102T193000
DTEND;TZID=America/Chicago:20240102T203000
DTSTAMP:20260421T002807
CREATED:20240119T231554Z
LAST-MODIFIED:20241112T232600Z
UID:10002486-1704223800-1704227400@dancelife.studio
SUMMARY:SATX WESTIES: WEST COAST GROUP LEVEL 1
DESCRIPTION:Level 1 is a class designed for students new to West Coast Swing. It will be focused on getting the basic rhythms and foundational patterns (left side pass\, underarm turn\, and sugar push) of the dance. These foundations will prepare for level 2 and more technical patterns and sequences. \nEach class has a different cost\, contact us to find out the cost of each one
URL:https://dancelife.studio/event/satx-westies-west-coast-group-level-1/2024-01-02/
LOCATION:Dance Life Studio\, 10003 NW Military Hwy #1126\, San Antonio\, TX\, 78231\, United States
CATEGORIES:Eventos DLS
ATTACH;FMTTYPE=image/jpeg:https://dancelife.studio/wp-content/uploads/2024/01/satx-westies-westcoastt.jpg
ORGANIZER;CN="Dance Life Studio Events":MAILTO:support@dancelife.studio
END:VEVENT
BEGIN:VEVENT
DTSTART;TZID=America/Chicago:20240101T200000
DTEND;TZID=America/Chicago:20240101T210000
DTSTAMP:20260421T002807
CREATED:20240119T230951Z
LAST-MODIFIED:20241112T170647Z
UID:10007058-1704139200-1704142800@dancelife.studio
SUMMARY:COUNTRY WESTERN - ADVANCED
DESCRIPTION:COUNTRY WESTERN – ADV. \nEach class has a different cost\, contact us to find out the cost of each one
URL:https://dancelife.studio/event/country-western-advanced/2024-01-01/
LOCATION:Dance Life Studio\, 10003 NW Military Hwy #1126\, San Antonio\, TX\, 78231\, United States
ATTACH;FMTTYPE=image/jpeg:https://dancelife.studio/wp-content/uploads/2023/11/Learn-country-waltz-dance-in-San-Antonio-Texas.jpg
ORGANIZER;CN="Dance Life Studio Events":MAILTO:support@dancelife.studio
END:VEVENT
BEGIN:VEVENT
DTSTART;TZID=America/Chicago:20240101T190000
DTEND;TZID=America/Chicago:20240101T200000
DTSTAMP:20260421T002807
CREATED:20240119T230816Z
LAST-MODIFIED:20241105T235032Z
UID:10001694-1704135600-1704139200@dancelife.studio
SUMMARY:COUNTRY WESTERN - BEGINNERS
DESCRIPTION:Country Dance is not one dance\, or type of dance\, but rather a group of dances done to Country music. Country Bands or DJs will play a variety of songs that can be danced to with a partner\, or you can Line Dance to them. Here at Dance Life\, you can find out about the most popular Country Dances.The most common or popular ones are: Two Step\, Waltz\, Triple Two Country SwingThe first week is intended for new students and we build up throughout the month to prepare for higher levels. \nEach class has a different cost\, contact us to find out the cost of each one
URL:https://dancelife.studio/event/country-western-beginners/2024-01-01/
LOCATION:Dance Life Studio\, 10003 NW Military Hwy #1126\, San Antonio\, TX\, 78231\, United States
CATEGORIES:Eventos DLS
ATTACH;FMTTYPE=image/jpeg:https://dancelife.studio/wp-content/uploads/2024/01/Learn-country-western-dance-in-San-Antonio-Texas.jpg
ORGANIZER;CN="Dance Life Studio Events":MAILTO:support@dancelife.studio
END:VEVENT
END:VCALENDAR